BEGIN:VCALENDAR
VERSION:2.0
PRODID:-//Deuel County - ECPv6.15.20//NONSGML v1.0//EN
CALSCALE:GREGORIAN
METHOD:PUBLISH
X-WR-CALNAME:Deuel County
X-ORIGINAL-URL:https://deuelcountyne.gov
X-WR-CALDESC:Events for Deuel County
REFRESH-INTERVAL;VALUE=DURATION:PT1H
X-Robots-Tag:noindex
X-PUBLISHED-TTL:PT1H
BEGIN:VTIMEZONE
TZID:America/Denver
BEGIN:DAYLIGHT
TZOFFSETFROM:-0700
TZOFFSETTO:-0600
TZNAME:MDT
DTSTART:20250309T090000
END:DAYLIGHT
BEGIN:STANDARD
TZOFFSETFROM:-0600
TZOFFSETTO:-0700
TZNAME:MST
DTSTART:20251102T080000
END:STANDARD
BEGIN:DAYLIGHT
TZOFFSETFROM:-0700
TZOFFSETTO:-0600
TZNAME:MDT
DTSTART:20260308T090000
END:DAYLIGHT
BEGIN:STANDARD
TZOFFSETFROM:-0600
TZOFFSETTO:-0700
TZNAME:MST
DTSTART:20261101T080000
END:STANDARD
BEGIN:DAYLIGHT
TZOFFSETFROM:-0700
TZOFFSETTO:-0600
TZNAME:MDT
DTSTART:20270314T090000
END:DAYLIGHT
BEGIN:STANDARD
TZOFFSETFROM:-0600
TZOFFSETTO:-0700
TZNAME:MST
DTSTART:20271107T080000
END:STANDARD
END:VTIMEZONE
BEGIN:VEVENT
DTSTART;TZID=America/Denver:20260501T080000
DTEND;TZID=America/Denver:20260501T180000
DTSTAMP:20260425T044431
CREATED:20260422T144503Z
LAST-MODIFIED:20260422T144536Z
UID:9743-1777622400-1777658400@deuelcountyne.gov
SUMMARY:Last day to register to vote (in person at the courthouse) for the May 12th Primary Election
DESCRIPTION:
URL:https://deuelcountyne.gov/event/last-day-to-register-to-vote-in-person-at-the-courthouse-for-the-may-12th-primary-election/
END:VEVENT
END:VCALENDAR